BEGIN:VCALENDAR
VERSION:2.0
PRODID:-//Visit Clare | Ireland - ECPv4.3.3//NONSGML v1.0//EN
CALSCALE:GREGORIAN
METHOD:PUBLISH
X-WR-CALNAME:Visit Clare | Ireland
X-ORIGINAL-URL:http://www.clare.ie
X-WR-CALDESC:Events for Visit Clare | Ireland
BEGIN:VEVENT
DTSTART;VALUE=DATE:20170101
DTEND;VALUE=DATE:20171231
DTSTAMP:20171106T151857
CREATED:20170124T135823Z
LAST-MODIFIED:20170801T143449Z
UID:7169-1483228800-1514764799@www.clare.ie
SUMMARY:2017 Festival & Events Guide
DESCRIPTION:
URL:http://www.clare.ie/event/2017-festival-events-guide/
END:VEVENT
BEGIN:VEVENT
DTSTART;VALUE=DATE:20170101
DTEND;VALUE=DATE:20171231
DTSTAMP:20171106T151857
CREATED:20170601T080609Z
LAST-MODIFIED:20170724T112556Z
UID:9304-1483228800-1514764799@www.clare.ie
SUMMARY:Clare GAA Fixtures
DESCRIPTION:
URL:http://www.clare.ie/event/clare-gaa-fixtures/
CATEGORIES:Exhibition,Heritage
END:VEVENT
BEGIN:VEVENT
DTSTART;TZID=Europe/Dublin:20170916T140000
DTEND;TZID=Europe/Dublin:20171216T160000
DTSTAMP:20171106T151857
CREATED:20170906T143359Z
LAST-MODIFIED:20170906T143359Z
UID:11024-1505570400-1513440000@www.clare.ie
SUMMARY:Clare Youth Theatre
DESCRIPTION:
URL:http://www.clare.ie/event/clare-youth-theatre/
CATEGORIES:Theatre
END:VEVENT
BEGIN:VEVENT
DTSTART;VALUE=DATE:20171002
DTEND;VALUE=DATE:20171228
DTSTAMP:20171106T151857
CREATED:20170829T082306Z
LAST-MODIFIED:20170829T082306Z
UID:10808-1506902400-1514505599@www.clare.ie
SUMMARY:Exhibition by Rita Linney
DESCRIPTION:
URL:http://www.clare.ie/event/exhibition-rita-linney/
CATEGORIES:Arts
END:VEVENT
BEGIN:VEVENT
DTSTART;TZID=Europe/Dublin:20171007T110000
DTEND;TZID=Europe/Dublin:20171202T140000
DTSTAMP:20171106T151857
CREATED:20170928T085921Z
LAST-MODIFIED:20170928T085921Z
UID:11185-1507374000-1512223200@www.clare.ie
SUMMARY:Public Spinning Demo
DESCRIPTION:
URL:http://www.clare.ie/event/public-spinning-demo/
CATEGORIES:Workshops
END:VEVENT
BEGIN:VEVENT
DTSTART;TZID=Europe/Dublin:20171013T100000
DTEND;TZID=Europe/Dublin:20180113T170000
DTSTAMP:20171106T151857
CREATED:20170912T090249Z
LAST-MODIFIED:20170912T090249Z
UID:11115-1507888800-1515862800@www.clare.ie
SUMMARY:Halcyon Days
DESCRIPTION:
URL:http://www.clare.ie/event/halcyon-days/
CATEGORIES:Arts,Exhibition
END:VEVENT
BEGIN:VEVENT
DTSTART;VALUE=DATE:20171102
DTEND;VALUE=DATE:20171201
DTSTAMP:20171106T151857
CREATED:20171101T100411Z
LAST-MODIFIED:20171101T100411Z
UID:11553-1509580800-1512172799@www.clare.ie
SUMMARY:Shadows of the Earth
DESCRIPTION:
URL:http://www.clare.ie/event/shadows-of-the-earth/
CATEGORIES:Arts,Exhibition
END:VEVENT
BEGIN:VEVENT
DTSTART;VALUE=DATE:20171106
DTEND;VALUE=DATE:20171125
DTSTAMP:20171106T151857
CREATED:20170928T082745Z
LAST-MODIFIED:20170928T082745Z
UID:11177-1509926400-1511654399@www.clare.ie
SUMMARY:Inis Artists : Group Exhibition
DESCRIPTION:
URL:http://www.clare.ie/event/inis-artists-group-exhibition/
CATEGORIES:Arts,Exhibition
END:VEVENT
BEGIN:VEVENT
DTSTART;TZID=Europe/Dublin:20171106T103000
DTEND;TZID=Europe/Dublin:20171117T200000
DTSTAMP:20171106T151857
CREATED:20170921T150905Z
LAST-MODIFIED:20170921T150905Z
UID:11163-1509964200-1510948800@www.clare.ie
SUMMARY:Stillness Breathes
DESCRIPTION:
URL:http://www.clare.ie/event/stillness-breathes/
CATEGORIES:Arts,Exhibition
END:VEVENT
BEGIN:VEVENT
DTSTART;TZID=Europe/Dublin:20171108T180000
DTEND;TZID=Europe/Dublin:20171129T190000
DTSTAMP:20171106T151857
CREATED:20171101T101157Z
LAST-MODIFIED:20171101T101157Z
UID:11556-1510164000-1511982000@www.clare.ie
SUMMARY:Guided Meditation
DESCRIPTION:
URL:http://www.clare.ie/event/guided-meditation/
CATEGORIES:Retreat
END:VEVENT
BEGIN:VEVENT
DTSTART;TZID=Europe/Dublin:20171110T200000
DTEND;TZID=Europe/Dublin:20180111T220000
DTSTAMP:20171106T151857
CREATED:20170731T132432Z
LAST-MODIFIED:20170731T132432Z
UID:10597-1510344000-1515708000@www.clare.ie
SUMMARY:The Successful TD by John B. Keane
DESCRIPTION:
URL:http://www.clare.ie/event/successful-td-john-b-keane/
CATEGORIES:Theatre
END:VEVENT
BEGIN:VEVENT
DTSTART;TZID=Europe/Dublin:20171117T200000
DTEND;TZID=Europe/Dublin:20171117T220000
DTSTAMP:20171106T151857
CREATED:20170829T092056Z
LAST-MODIFIED:20170829T092056Z
UID:10820-1510948800-1510956000@www.clare.ie
SUMMARY:Notify and The Mark Lettieri Trio
DESCRIPTION:
URL:http://www.clare.ie/event/notify-mark-lettieri-trio/
CATEGORIES:Concert
END:VEVENT
BEGIN:VEVENT
DTSTART;TZID=Europe/Dublin:20171117T210000
DTEND;TZID=Europe/Dublin:20171117T230000
DTSTAMP:20171106T151857
CREATED:20161020T103514Z
LAST-MODIFIED:20161020T103805Z
UID:5947-1510952400-1510959600@www.clare.ie
SUMMARY:Kilshanny House Traditional Music Night
DESCRIPTION:
URL:http://www.clare.ie/event/traditional-music-night/2017-11-17/
LOCATION:Ireland
END:VEVENT
BEGIN:VEVENT
DTSTART;TZID=Europe/Dublin:20171117T210000
DTEND;TZID=Europe/Dublin:20171118T230000
DTSTAMP:20171106T151857
CREATED:20161020T111058Z
LAST-MODIFIED:20161020T111058Z
UID:6029-1510952400-1511046000@www.clare.ie
SUMMARY:Live Music Session in Johnny Burke's Bar
DESCRIPTION:
URL:http://www.clare.ie/event/live-music-session-johnny-burkes-bar-2/2017-11-17/
LOCATION:Ireland
END:VEVENT
BEGIN:VEVENT
DTSTART;TZID=Europe/Dublin:20171117T213000
DTEND;TZID=Europe/Dublin:20171117T233000
DTSTAMP:20171106T151857
CREATED:20160419T141614Z
LAST-MODIFIED:20160419T144756Z
UID:4068-1510954200-1510961400@www.clare.ie
SUMMARY:Doonbeg Singers Club
DESCRIPTION:
URL:http://www.clare.ie/event/doonbeg-singers-club/2017-11-17/
LOCATION:Ireland
END:VEVENT
BEGIN:VEVENT
DTSTART;TZID=Europe/Dublin:20171117T213000
DTEND;TZID=Europe/Dublin:20171117T233000
DTSTAMP:20171106T151857
CREATED:20160419T143604Z
LAST-MODIFIED:20161219T145542Z
UID:4084-1510954200-1510961400@www.clare.ie
SUMMARY:Fanore Song Night
DESCRIPTION:
URL:http://www.clare.ie/event/fanore-singers-club/2017-11-17/
LOCATION:Ireland
END:VEVENT
END:VCALENDAR