BEGIN:VCALENDAR
VERSION:2.0
PRODID:-//Visit Clare | Ireland - ECPv4.3.3//NONSGML v1.0//EN
CALSCALE:GREGORIAN
METHOD:PUBLISH
X-WR-CALNAME:Visit Clare | Ireland
X-ORIGINAL-URL:http://www.clare.ie
X-WR-CALDESC:Events for Visit Clare | Ireland
BEGIN:VEVENT
DTSTART;VALUE=DATE:20170101
DTEND;VALUE=DATE:20171231
DTSTAMP:20171106T154201
CREATED:20170124T135823Z
LAST-MODIFIED:20170801T143449Z
UID:7169-1483228800-1514764799@www.clare.ie
SUMMARY:2017 Festival & Events Guide
DESCRIPTION:
URL:http://www.clare.ie/event/2017-festival-events-guide/
END:VEVENT
BEGIN:VEVENT
DTSTART;VALUE=DATE:20170101
DTEND;VALUE=DATE:20171231
DTSTAMP:20171106T154201
CREATED:20170601T080609Z
LAST-MODIFIED:20170724T112556Z
UID:9304-1483228800-1514764799@www.clare.ie
SUMMARY:Clare GAA Fixtures
DESCRIPTION:
URL:http://www.clare.ie/event/clare-gaa-fixtures/
CATEGORIES:Exhibition,Heritage
END:VEVENT
BEGIN:VEVENT
DTSTART;VALUE=DATE:20170814
DTEND;VALUE=DATE:20171025
DTSTAMP:20171106T154201
CREATED:20170622T085648Z
LAST-MODIFIED:20170622T085648Z
UID:9908-1502668800-1508975999@www.clare.ie
SUMMARY:August Workshops At Burren College of Art
DESCRIPTION:
URL:http://www.clare.ie/event/august-workshops-burren-college-art/
CATEGORIES:Workshops
END:VEVENT
BEGIN:VEVENT
DTSTART;VALUE=DATE:20170819
DTEND;VALUE=DATE:20171027
DTSTAMP:20171106T154201
CREATED:20170622T091314Z
LAST-MODIFIED:20170622T091314Z
UID:9918-1503100800-1509148799@www.clare.ie
SUMMARY:Burren Heritage Week Walks
DESCRIPTION:
URL:http://www.clare.ie/event/burren-heritage-week-walks/
CATEGORIES:Nature,Walk
END:VEVENT
BEGIN:VEVENT
DTSTART;TZID=Europe/Dublin:20170819T090000
DTEND;TZID=Europe/Dublin:20171027T180000
DTSTAMP:20171106T154201
CREATED:20170531T132608Z
LAST-MODIFIED:20170531T132608Z
UID:9244-1503133200-1509127200@www.clare.ie
SUMMARY:Dolphins and Nature
DESCRIPTION:
URL:http://www.clare.ie/event/dolphins-and-nature/
CATEGORIES:Nature
END:VEVENT
BEGIN:VEVENT
DTSTART;TZID=Europe/Dublin:20170819T100000
DTEND;TZID=Europe/Dublin:20171027T163000
DTSTAMP:20171106T154201
CREATED:20170531T133132Z
LAST-MODIFIED:20170531T133132Z
UID:9247-1503136800-1509121800@www.clare.ie
SUMMARY:Butterfly Hunt
DESCRIPTION:
URL:http://www.clare.ie/event/butterfly-hunt/
CATEGORIES:Nature
END:VEVENT
BEGIN:VEVENT
DTSTART;TZID=Europe/Dublin:20170819T130000
DTEND;TZID=Europe/Dublin:20171027T170000
DTSTAMP:20171106T154201
CREATED:20170531T104318Z
LAST-MODIFIED:20170531T104318Z
UID:9199-1503147600-1509123600@www.clare.ie
SUMMARY:Daily Tours of Scattery Island
DESCRIPTION:
URL:http://www.clare.ie/event/daily-tours-scattery-island/
CATEGORIES:Exhibition
END:VEVENT
BEGIN:VEVENT
DTSTART;VALUE=DATE:20170904
DTEND;VALUE=DATE:20171030
DTSTAMP:20171106T154201
CREATED:20170828T151518Z
LAST-MODIFIED:20170828T153144Z
UID:10795-1504483200-1509407999@www.clare.ie
SUMMARY:Therianthropy
DESCRIPTION:
URL:http://www.clare.ie/event/therianthropy/
CATEGORIES:Arts,Exhibition
END:VEVENT
BEGIN:VEVENT
DTSTART;TZID=Europe/Dublin:20170916T140000
DTEND;TZID=Europe/Dublin:20171216T160000
DTSTAMP:20171106T154201
CREATED:20170906T143359Z
LAST-MODIFIED:20170906T143359Z
UID:11024-1505570400-1513440000@www.clare.ie
SUMMARY:Clare Youth Theatre
DESCRIPTION:
URL:http://www.clare.ie/event/clare-youth-theatre/
CATEGORIES:Theatre
END:VEVENT
BEGIN:VEVENT
DTSTART;VALUE=DATE:20170919
DTEND;VALUE=DATE:20171025
DTSTAMP:20171106T154201
CREATED:20170831T114954Z
LAST-MODIFIED:20170831T114954Z
UID:10954-1505779200-1508975999@www.clare.ie
SUMMARY:Ennis Fashion Week
DESCRIPTION:
URL:http://www.clare.ie/event/ennis-fashion-week/
CATEGORIES:Fashion Week
END:VEVENT
BEGIN:VEVENT
DTSTART;VALUE=DATE:20171002
DTEND;VALUE=DATE:20171228
DTSTAMP:20171106T154201
CREATED:20170829T082306Z
LAST-MODIFIED:20170829T082306Z
UID:10808-1506902400-1514505599@www.clare.ie
SUMMARY:Exhibition by Rita Linney
DESCRIPTION:
URL:http://www.clare.ie/event/exhibition-rita-linney/
CATEGORIES:Arts
END:VEVENT
BEGIN:VEVENT
DTSTART;TZID=Europe/Dublin:20171007T110000
DTEND;TZID=Europe/Dublin:20171202T140000
DTSTAMP:20171106T154201
CREATED:20170928T085921Z
LAST-MODIFIED:20170928T085921Z
UID:11185-1507374000-1512223200@www.clare.ie
SUMMARY:Public Spinning Demo
DESCRIPTION:
URL:http://www.clare.ie/event/public-spinning-demo/
CATEGORIES:Workshops
END:VEVENT
BEGIN:VEVENT
DTSTART;VALUE=DATE:20171012
DTEND;VALUE=DATE:20171015
DTSTAMP:20171106T154201
CREATED:20160401T135451Z
LAST-MODIFIED:20170905T105644Z
UID:2427-1507766400-1508111999@www.clare.ie
SUMMARY:Ennis Food Festival
DESCRIPTION:
URL:http://www.clare.ie/event/ennis-food-festival/
LOCATION:Ireland
END:VEVENT
BEGIN:VEVENT
DTSTART;TZID=Europe/Dublin:20171013T100000
DTEND;TZID=Europe/Dublin:20180113T170000
DTSTAMP:20171106T154201
CREATED:20170912T090249Z
LAST-MODIFIED:20170912T090249Z
UID:11115-1507888800-1515862800@www.clare.ie
SUMMARY:Halcyon Days
DESCRIPTION:
URL:http://www.clare.ie/event/halcyon-days/
CATEGORIES:Arts,Exhibition
END:VEVENT
BEGIN:VEVENT
DTSTART;TZID=Europe/Dublin:20171015T100000
DTEND;TZID=Europe/Dublin:20171015T180000
DTSTAMP:20171106T154201
CREATED:20160401T135449Z
LAST-MODIFIED:20161025T095842Z
UID:6492-1508061600-1508090400@www.clare.ie
SUMMARY:Burren Arts & Crafts Fair
DESCRIPTION:
URL:http://www.clare.ie/event/burren-art-and-craft-fair/2017-10-15/
LOCATION:Ireland
END:VEVENT
BEGIN:VEVENT
DTSTART;TZID=Europe/Dublin:20171015T113000
DTEND;TZID=Europe/Dublin:20171015T160000
DTSTAMP:20171106T154201
CREATED:20171006T083121Z
LAST-MODIFIED:20171006T083156Z
UID:11224-1508067000-1508083200@www.clare.ie
SUMMARY:Marissa's Masterclass
DESCRIPTION:
URL:http://www.clare.ie/event/marissas-masterclass/
CATEGORIES:Workshops
END:VEVENT
BEGIN:VEVENT
DTSTART;TZID=Europe/Dublin:20171015T213000
DTEND;TZID=Europe/Dublin:20171015T230000
DTSTAMP:20171106T154201
CREATED:20161020T121604Z
LAST-MODIFIED:20161020T121604Z
UID:6295-1508103000-1508108400@www.clare.ie
SUMMARY:Fitzpatrick’s Nightly Trad Session
DESCRIPTION:
URL:http://www.clare.ie/event/fitzpatricks-nightly-trad-session/2017-10-15/
LOCATION:Ireland
END:VEVENT
END:VCALENDAR